BEGIN:VCALENDAR
VERSION:2.0
PRODID:-//CQ Fitness Co. - ECPv6.15.20//NONSGML v1.0//EN
CALSCALE:GREGORIAN
METHOD:PUBLISH
X-WR-CALNAME:CQ Fitness Co.
X-ORIGINAL-URL:https://cqfitnessco.com.au
X-WR-CALDESC:Events for CQ Fitness Co.
REFRESH-INTERVAL;VALUE=DURATION:PT1H
X-Robots-Tag:noindex
X-PUBLISHED-TTL:PT1H
BEGIN:VTIMEZONE
TZID:Australia/Brisbane
BEGIN:STANDARD
TZOFFSETFROM:+1000
TZOFFSETTO:+1000
TZNAME:AEST
DTSTART:20220101T000000
END:STANDARD
END:VTIMEZONE
BEGIN:VEVENT
DTSTART;TZID=Australia/Brisbane:20230306T053000
DTEND;TZID=Australia/Brisbane:20230306T063000
DTSTAMP:20260419T121302
CREATED:20230308T205400Z
LAST-MODIFIED:20230313T043915Z
UID:376-1678080600-1678084200@cqfitnessco.com.au
SUMMARY:CrossFit
DESCRIPTION:
URL:https://cqfitnessco.com.au/event/crossfit/
CATEGORIES:Crossfit Adults
ATTACH;FMTTYPE=image/jpeg:https://cqfitnessco.com.au/wp-content/uploads/2023/03/CrossFitCQ.jpg
END:VEVENT
BEGIN:VEVENT
DTSTART;TZID=Australia/Brisbane:20230306T060000
DTEND;TZID=Australia/Brisbane:20230306T130000
DTSTAMP:20260419T121302
CREATED:20230308T213459Z
LAST-MODIFIED:20230314T044339Z
UID:410-1678082400-1678107600@cqfitnessco.com.au
SUMMARY:Athlete | All Access
DESCRIPTION:
URL:https://cqfitnessco.com.au/event/athlete-all-access/
CATEGORIES:Athlete | All Access
ATTACH;FMTTYPE=image/jpeg:https://cqfitnessco.com.au/wp-content/uploads/2023/03/Athlete1.jpg
END:VEVENT
BEGIN:VEVENT
DTSTART;TZID=Australia/Brisbane:20230306T063000
DTEND;TZID=Australia/Brisbane:20230306T073000
DTSTAMP:20260419T121302
CREATED:20230308T205617Z
LAST-MODIFIED:20230313T043945Z
UID:379-1678084200-1678087800@cqfitnessco.com.au
SUMMARY:CrossFit
DESCRIPTION:
URL:https://cqfitnessco.com.au/event/crossfit-2/
CATEGORIES:Crossfit Adults
ATTACH;FMTTYPE=image/jpeg:https://cqfitnessco.com.au/wp-content/uploads/2023/03/CrossFitCQ.jpg
END:VEVENT
BEGIN:VEVENT
DTSTART;TZID=Australia/Brisbane:20230306T073000
DTEND;TZID=Australia/Brisbane:20230306T083000
DTSTAMP:20260419T121302
CREATED:20230308T212853Z
LAST-MODIFIED:20230314T044930Z
UID:403-1678087800-1678091400@cqfitnessco.com.au
SUMMARY:Fit Me
DESCRIPTION:Exclusive to mums. Children and bub friendly (no childminding).
URL:https://cqfitnessco.com.au/event/fit-me/
CATEGORIES:Fit Me
ATTACH;FMTTYPE=image/jpeg:https://cqfitnessco.com.au/wp-content/uploads/2023/03/FitMe1.jpg
END:VEVENT
BEGIN:VEVENT
DTSTART;TZID=Australia/Brisbane:20230306T090000
DTEND;TZID=Australia/Brisbane:20230306T100000
DTSTAMP:20260419T121302
CREATED:20230308T210148Z
LAST-MODIFIED:20230313T044006Z
UID:391-1678093200-1678096800@cqfitnessco.com.au
SUMMARY:CrossFit
DESCRIPTION:
URL:https://cqfitnessco.com.au/event/crossfit-6/
CATEGORIES:Crossfit Adults
ATTACH;FMTTYPE=image/jpeg:https://cqfitnessco.com.au/wp-content/uploads/2023/03/CrossFitCQ.jpg
END:VEVENT
BEGIN:VEVENT
DTSTART;TZID=Australia/Brisbane:20230306T120000
DTEND;TZID=Australia/Brisbane:20230306T130000
DTSTAMP:20260419T121302
CREATED:20230308T210340Z
LAST-MODIFIED:20230313T044036Z
UID:394-1678104000-1678107600@cqfitnessco.com.au
SUMMARY:CrossFit
DESCRIPTION:
URL:https://cqfitnessco.com.au/event/crossfit-7/
CATEGORIES:Crossfit Adults
ATTACH;FMTTYPE=image/jpeg:https://cqfitnessco.com.au/wp-content/uploads/2023/03/CrossFitCQ.jpg
END:VEVENT
BEGIN:VEVENT
DTSTART;TZID=Australia/Brisbane:20230306T153000
DTEND;TZID=Australia/Brisbane:20230306T163000
DTSTAMP:20260419T121302
CREATED:20230308T213924Z
LAST-MODIFIED:20230313T202236Z
UID:422-1678116600-1678120200@cqfitnessco.com.au
SUMMARY:CF Teens
DESCRIPTION:
URL:https://cqfitnessco.com.au/event/cf-teens/
CATEGORIES:CrossFit Teens
ATTACH;FMTTYPE=image/jpeg:https://cqfitnessco.com.au/wp-content/uploads/2023/03/CrossFitTeens.jpg
END:VEVENT
BEGIN:VEVENT
DTSTART;TZID=Australia/Brisbane:20230306T153000
DTEND;TZID=Australia/Brisbane:20230306T183000
DTSTAMP:20260419T121302
CREATED:20230308T213620Z
LAST-MODIFIED:20230314T044322Z
UID:413-1678116600-1678127400@cqfitnessco.com.au
SUMMARY:Athlete | All Access
DESCRIPTION:
URL:https://cqfitnessco.com.au/event/athlete-all-access-2/
CATEGORIES:Athlete | All Access
ATTACH;FMTTYPE=image/jpeg:https://cqfitnessco.com.au/wp-content/uploads/2023/03/Athlete1.jpg
END:VEVENT
BEGIN:VEVENT
DTSTART;TZID=Australia/Brisbane:20230306T163000
DTEND;TZID=Australia/Brisbane:20230306T173000
DTSTAMP:20260419T121302
CREATED:20230308T210446Z
LAST-MODIFIED:20230313T044707Z
UID:397-1678120200-1678123800@cqfitnessco.com.au
SUMMARY:CrossFit
DESCRIPTION:
URL:https://cqfitnessco.com.au/event/crossfit-8/
CATEGORIES:Crossfit Adults
ATTACH;FMTTYPE=image/jpeg:https://cqfitnessco.com.au/wp-content/uploads/2023/03/CrossFitCQ.jpg
END:VEVENT
BEGIN:VEVENT
DTSTART;TZID=Australia/Brisbane:20230306T173000
DTEND;TZID=Australia/Brisbane:20230306T183000
DTSTAMP:20260419T121302
CREATED:20230308T210537Z
LAST-MODIFIED:20230313T043837Z
UID:400-1678123800-1678127400@cqfitnessco.com.au
SUMMARY:CrossFit
DESCRIPTION:
URL:https://cqfitnessco.com.au/event/crossfit-9/
CATEGORIES:Crossfit Adults
ATTACH;FMTTYPE=image/jpeg:https://cqfitnessco.com.au/wp-content/uploads/2023/03/CrossFitCQ.jpg
END:VEVENT
BEGIN:VEVENT
DTSTART;TZID=Australia/Brisbane:20230306T053000
DTEND;TZID=Australia/Brisbane:20230306T063000
DTSTAMP:20260419T121302
CREATED:20230308T205400Z
LAST-MODIFIED:20230313T043915Z
UID:376-1678080600-1678084200@cqfitnessco.com.au
SUMMARY:CrossFit
DESCRIPTION:
URL:https://cqfitnessco.com.au/event/crossfit/
CATEGORIES:Crossfit Adults
ATTACH;FMTTYPE=image/jpeg:https://cqfitnessco.com.au/wp-content/uploads/2023/03/CrossFitCQ.jpg
END:VEVENT
BEGIN:VEVENT
DTSTART;TZID=Australia/Brisbane:20230306T060000
DTEND;TZID=Australia/Brisbane:20230306T130000
DTSTAMP:20260419T121302
CREATED:20230308T213459Z
LAST-MODIFIED:20230314T044339Z
UID:410-1678082400-1678107600@cqfitnessco.com.au
SUMMARY:Athlete | All Access
DESCRIPTION:
URL:https://cqfitnessco.com.au/event/athlete-all-access/
CATEGORIES:Athlete | All Access
ATTACH;FMTTYPE=image/jpeg:https://cqfitnessco.com.au/wp-content/uploads/2023/03/Athlete1.jpg
END:VEVENT
BEGIN:VEVENT
DTSTART;TZID=Australia/Brisbane:20230306T063000
DTEND;TZID=Australia/Brisbane:20230306T073000
DTSTAMP:20260419T121302
CREATED:20230308T205617Z
LAST-MODIFIED:20230313T043945Z
UID:379-1678084200-1678087800@cqfitnessco.com.au
SUMMARY:CrossFit
DESCRIPTION:
URL:https://cqfitnessco.com.au/event/crossfit-2/
CATEGORIES:Crossfit Adults
ATTACH;FMTTYPE=image/jpeg:https://cqfitnessco.com.au/wp-content/uploads/2023/03/CrossFitCQ.jpg
END:VEVENT
BEGIN:VEVENT
DTSTART;TZID=Australia/Brisbane:20230307T081500
DTEND;TZID=Australia/Brisbane:20230307T091500
DTSTAMP:20260419T121302
CREATED:20230308T213107Z
LAST-MODIFIED:20230314T044522Z
UID:407-1678176900-1678180500@cqfitnessco.com.au
SUMMARY:Fit 360
DESCRIPTION:
URL:https://cqfitnessco.com.au/event/fit-360/
CATEGORIES:Fit 360
ATTACH;FMTTYPE=image/jpeg:https://cqfitnessco.com.au/wp-content/uploads/2023/03/Fit3601.jpg
END:VEVENT
BEGIN:VEVENT
DTSTART;TZID=Australia/Brisbane:20230306T090000
DTEND;TZID=Australia/Brisbane:20230306T100000
DTSTAMP:20260419T121302
CREATED:20230308T210148Z
LAST-MODIFIED:20230313T044006Z
UID:391-1678093200-1678096800@cqfitnessco.com.au
SUMMARY:CrossFit
DESCRIPTION:
URL:https://cqfitnessco.com.au/event/crossfit-6/
CATEGORIES:Crossfit Adults
ATTACH;FMTTYPE=image/jpeg:https://cqfitnessco.com.au/wp-content/uploads/2023/03/CrossFitCQ.jpg
END:VEVENT
BEGIN:VEVENT
DTSTART;TZID=Australia/Brisbane:20230306T120000
DTEND;TZID=Australia/Brisbane:20230306T130000
DTSTAMP:20260419T121302
CREATED:20230308T210340Z
LAST-MODIFIED:20230313T044036Z
UID:394-1678104000-1678107600@cqfitnessco.com.au
SUMMARY:CrossFit
DESCRIPTION:
URL:https://cqfitnessco.com.au/event/crossfit-7/
CATEGORIES:Crossfit Adults
ATTACH;FMTTYPE=image/jpeg:https://cqfitnessco.com.au/wp-content/uploads/2023/03/CrossFitCQ.jpg
END:VEVENT
BEGIN:VEVENT
DTSTART;TZID=Australia/Brisbane:20230307T153000
DTEND;TZID=Australia/Brisbane:20230307T163000
DTSTAMP:20260419T121302
CREATED:20230308T214041Z
LAST-MODIFIED:20230313T202025Z
UID:425-1678203000-1678206600@cqfitnessco.com.au
SUMMARY:CF Kids
DESCRIPTION:
URL:https://cqfitnessco.com.au/event/cf-kids/
ATTACH;FMTTYPE=image/jpeg:https://cqfitnessco.com.au/wp-content/uploads/2023/03/CrossFitKids.jpg
END:VEVENT
BEGIN:VEVENT
DTSTART;TZID=Australia/Brisbane:20230306T153000
DTEND;TZID=Australia/Brisbane:20230306T183000
DTSTAMP:20260419T121302
CREATED:20230308T213620Z
LAST-MODIFIED:20230314T044322Z
UID:413-1678116600-1678127400@cqfitnessco.com.au
SUMMARY:Athlete | All Access
DESCRIPTION:
URL:https://cqfitnessco.com.au/event/athlete-all-access-2/
CATEGORIES:Athlete | All Access
ATTACH;FMTTYPE=image/jpeg:https://cqfitnessco.com.au/wp-content/uploads/2023/03/Athlete1.jpg
END:VEVENT
BEGIN:VEVENT
DTSTART;TZID=Australia/Brisbane:20230306T163000
DTEND;TZID=Australia/Brisbane:20230306T173000
DTSTAMP:20260419T121302
CREATED:20230308T210446Z
LAST-MODIFIED:20230313T044707Z
UID:397-1678120200-1678123800@cqfitnessco.com.au
SUMMARY:CrossFit
DESCRIPTION:
URL:https://cqfitnessco.com.au/event/crossfit-8/
CATEGORIES:Crossfit Adults
ATTACH;FMTTYPE=image/jpeg:https://cqfitnessco.com.au/wp-content/uploads/2023/03/CrossFitCQ.jpg
END:VEVENT
BEGIN:VEVENT
DTSTART;TZID=Australia/Brisbane:20230306T173000
DTEND;TZID=Australia/Brisbane:20230306T183000
DTSTAMP:20260419T121302
CREATED:20230308T210537Z
LAST-MODIFIED:20230313T043837Z
UID:400-1678123800-1678127400@cqfitnessco.com.au
SUMMARY:CrossFit
DESCRIPTION:
URL:https://cqfitnessco.com.au/event/crossfit-9/
CATEGORIES:Crossfit Adults
ATTACH;FMTTYPE=image/jpeg:https://cqfitnessco.com.au/wp-content/uploads/2023/03/CrossFitCQ.jpg
END:VEVENT
BEGIN:VEVENT
DTSTART;TZID=Australia/Brisbane:20230306T053000
DTEND;TZID=Australia/Brisbane:20230306T063000
DTSTAMP:20260419T121302
CREATED:20230308T205400Z
LAST-MODIFIED:20230313T043915Z
UID:376-1678080600-1678084200@cqfitnessco.com.au
SUMMARY:CrossFit
DESCRIPTION:
URL:https://cqfitnessco.com.au/event/crossfit/
CATEGORIES:Crossfit Adults
ATTACH;FMTTYPE=image/jpeg:https://cqfitnessco.com.au/wp-content/uploads/2023/03/CrossFitCQ.jpg
END:VEVENT
BEGIN:VEVENT
DTSTART;TZID=Australia/Brisbane:20230306T060000
DTEND;TZID=Australia/Brisbane:20230306T130000
DTSTAMP:20260419T121302
CREATED:20230308T213459Z
LAST-MODIFIED:20230314T044339Z
UID:410-1678082400-1678107600@cqfitnessco.com.au
SUMMARY:Athlete | All Access
DESCRIPTION:
URL:https://cqfitnessco.com.au/event/athlete-all-access/
CATEGORIES:Athlete | All Access
ATTACH;FMTTYPE=image/jpeg:https://cqfitnessco.com.au/wp-content/uploads/2023/03/Athlete1.jpg
END:VEVENT
BEGIN:VEVENT
DTSTART;TZID=Australia/Brisbane:20230306T063000
DTEND;TZID=Australia/Brisbane:20230306T073000
DTSTAMP:20260419T121302
CREATED:20230308T205617Z
LAST-MODIFIED:20230313T043945Z
UID:379-1678084200-1678087800@cqfitnessco.com.au
SUMMARY:CrossFit
DESCRIPTION:
URL:https://cqfitnessco.com.au/event/crossfit-2/
CATEGORIES:Crossfit Adults
ATTACH;FMTTYPE=image/jpeg:https://cqfitnessco.com.au/wp-content/uploads/2023/03/CrossFitCQ.jpg
END:VEVENT
BEGIN:VEVENT
DTSTART;TZID=Australia/Brisbane:20230306T073000
DTEND;TZID=Australia/Brisbane:20230306T083000
DTSTAMP:20260419T121302
CREATED:20230308T212853Z
LAST-MODIFIED:20230314T044930Z
UID:403-1678087800-1678091400@cqfitnessco.com.au
SUMMARY:Fit Me
DESCRIPTION:Exclusive to mums. Children and bub friendly (no childminding).
URL:https://cqfitnessco.com.au/event/fit-me/
CATEGORIES:Fit Me
ATTACH;FMTTYPE=image/jpeg:https://cqfitnessco.com.au/wp-content/uploads/2023/03/FitMe1.jpg
END:VEVENT
BEGIN:VEVENT
DTSTART;TZID=Australia/Brisbane:20230307T081500
DTEND;TZID=Australia/Brisbane:20230307T091500
DTSTAMP:20260419T121302
CREATED:20230308T213107Z
LAST-MODIFIED:20230314T044522Z
UID:407-1678176900-1678180500@cqfitnessco.com.au
SUMMARY:Fit 360
DESCRIPTION:
URL:https://cqfitnessco.com.au/event/fit-360/
CATEGORIES:Fit 360
ATTACH;FMTTYPE=image/jpeg:https://cqfitnessco.com.au/wp-content/uploads/2023/03/Fit3601.jpg
END:VEVENT
BEGIN:VEVENT
DTSTART;TZID=Australia/Brisbane:20230306T090000
DTEND;TZID=Australia/Brisbane:20230306T100000
DTSTAMP:20260419T121302
CREATED:20230308T210148Z
LAST-MODIFIED:20230313T044006Z
UID:391-1678093200-1678096800@cqfitnessco.com.au
SUMMARY:CrossFit
DESCRIPTION:
URL:https://cqfitnessco.com.au/event/crossfit-6/
CATEGORIES:Crossfit Adults
ATTACH;FMTTYPE=image/jpeg:https://cqfitnessco.com.au/wp-content/uploads/2023/03/CrossFitCQ.jpg
END:VEVENT
BEGIN:VEVENT
DTSTART;TZID=Australia/Brisbane:20230306T120000
DTEND;TZID=Australia/Brisbane:20230306T130000
DTSTAMP:20260419T121302
CREATED:20230308T210340Z
LAST-MODIFIED:20230313T044036Z
UID:394-1678104000-1678107600@cqfitnessco.com.au
SUMMARY:CrossFit
DESCRIPTION:
URL:https://cqfitnessco.com.au/event/crossfit-7/
CATEGORIES:Crossfit Adults
ATTACH;FMTTYPE=image/jpeg:https://cqfitnessco.com.au/wp-content/uploads/2023/03/CrossFitCQ.jpg
END:VEVENT
BEGIN:VEVENT
DTSTART;TZID=Australia/Brisbane:20230306T153000
DTEND;TZID=Australia/Brisbane:20230306T183000
DTSTAMP:20260419T121302
CREATED:20230308T213620Z
LAST-MODIFIED:20230314T044322Z
UID:413-1678116600-1678127400@cqfitnessco.com.au
SUMMARY:Athlete | All Access
DESCRIPTION:
URL:https://cqfitnessco.com.au/event/athlete-all-access-2/
CATEGORIES:Athlete | All Access
ATTACH;FMTTYPE=image/jpeg:https://cqfitnessco.com.au/wp-content/uploads/2023/03/Athlete1.jpg
END:VEVENT
BEGIN:VEVENT
DTSTART;TZID=Australia/Brisbane:20230306T163000
DTEND;TZID=Australia/Brisbane:20230306T173000
DTSTAMP:20260419T121302
CREATED:20230308T210446Z
LAST-MODIFIED:20230313T044707Z
UID:397-1678120200-1678123800@cqfitnessco.com.au
SUMMARY:CrossFit
DESCRIPTION:
URL:https://cqfitnessco.com.au/event/crossfit-8/
CATEGORIES:Crossfit Adults
ATTACH;FMTTYPE=image/jpeg:https://cqfitnessco.com.au/wp-content/uploads/2023/03/CrossFitCQ.jpg
END:VEVENT
BEGIN:VEVENT
DTSTART;TZID=Australia/Brisbane:20230306T173000
DTEND;TZID=Australia/Brisbane:20230306T183000
DTSTAMP:20260419T121302
CREATED:20230308T210537Z
LAST-MODIFIED:20230313T043837Z
UID:400-1678123800-1678127400@cqfitnessco.com.au
SUMMARY:CrossFit
DESCRIPTION:
URL:https://cqfitnessco.com.au/event/crossfit-9/
CATEGORIES:Crossfit Adults
ATTACH;FMTTYPE=image/jpeg:https://cqfitnessco.com.au/wp-content/uploads/2023/03/CrossFitCQ.jpg
END:VEVENT
END:VCALENDAR